BEGIN:VCALENDAR
VERSION:2.0
PRODID:-//Spy Hop - ECPv6.15.18//NONSGML v1.0//EN
CALSCALE:GREGORIAN
METHOD:PUBLISH
X-WR-CALNAME:Spy Hop
X-ORIGINAL-URL:https://spyhop.org
X-WR-CALDESC:Events for Spy Hop
REFRESH-INTERVAL;VALUE=DURATION:PT1H
X-Robots-Tag:noindex
X-PUBLISHED-TTL:PT1H
BEGIN:VTIMEZONE
TZID:America/Denver
BEGIN:DAYLIGHT
TZOFFSETFROM:-0700
TZOFFSETTO:-0600
TZNAME:MDT
DTSTART:20240310T090000
END:DAYLIGHT
BEGIN:STANDARD
TZOFFSETFROM:-0600
TZOFFSETTO:-0700
TZNAME:MST
DTSTART:20241103T080000
END:STANDARD
BEGIN:DAYLIGHT
TZOFFSETFROM:-0700
TZOFFSETTO:-0600
TZNAME:MDT
DTSTART:20250309T090000
END:DAYLIGHT
BEGIN:STANDARD
TZOFFSETFROM:-0600
TZOFFSETTO:-0700
TZNAME:MST
DTSTART:20251102T080000
END:STANDARD
BEGIN:DAYLIGHT
TZOFFSETFROM:-0700
TZOFFSETTO:-0600
TZNAME:MDT
DTSTART:20260308T090000
END:DAYLIGHT
BEGIN:STANDARD
TZOFFSETFROM:-0600
TZOFFSETTO:-0700
TZNAME:MST
DTSTART:20261101T080000
END:STANDARD
END:VTIMEZONE
BEGIN:VEVENT
DTSTART;TZID=America/Denver:20250808T180000
DTEND;TZID=America/Denver:20250808T200000
DTSTAMP:20260420T153505
CREATED:20250611T172736Z
LAST-MODIFIED:20250722T220922Z
UID:37391-1754676000-1754683200@spyhop.org
SUMMARY:Pixel Gallery
DESCRIPTION:Celebrate the next generation of artists\, designers\, and game developers – and see what they have to say. Pixel Gallery 2025 marks the launch of Regulars\, a video game demo about gentrification. Designed and developed by teens in Spy Hop’s Power Up! program\, this thought-provoking game invites you to explore how young creators are using art and technology to spark conversation—and you can be one of the first to play it. In addition to a game launch\, Pixel Gallery is a celebration of Spy Hop’s youth design programs\, showcasing incredible work from students across our classes. From big issues like the Great Salt Lake and changing neighborhoods to personal stories of identity\, emotions\, and creativity\, these young artists are using design to share their vision of the world. 								\n				\n										\n						\n									GET YOUR FREE TICKETS\n					\n					\n								\n				\n									What to expect 🎮 Play Regulars and hear from the teen developers during a Q&A🖼 Explore teen-made art\, board games\, and design projects that are both digital and analog🎨 Grab free teen-made zines\, stickers\, and buttons to take home🎧 Enjoy music\, a photo op\, and free finger foods Details 📍 Urban Arts Gallery\, in conjunction with their monthly Connect event📅 Friday August 8\, 2025 | 6–8 PM🎟 Free + all ages🌟 Regulars will be on display at the Urban Arts Gallery through August. All additional design work will remain on view through August 10th\, with a selection of pieces continuing on display alongside the game for the rest of the month.
URL:https://spyhop.org/event/pixel-gallery/
LOCATION:Urban Arts Gallery\, 116 S Rio Grande St\, Salt Lake City\, UT\, 84101\, United States
ATTACH;FMTTYPE=image/png:https://spyhop.org/wp-content/uploads/2025/06/SpyHop_PixelGallery25_HD_LogoOnly2_1920x1080.png
END:VEVENT
END:VCALENDAR